BEGIN:VCALENDAR
VERSION:2.0
PRODID:-//Jewish Community of Sedona and the Verde Valley Synagogue - ECPv6.15.20//NONSGML v1.0//EN
CALSCALE:GREGORIAN
METHOD:PUBLISH
X-WR-CALNAME:Jewish Community of Sedona and the Verde Valley Synagogue
X-ORIGINAL-URL:https://www.jcsvv.org
X-WR-CALDESC:Events for Jewish Community of Sedona and the Verde Valley Synagogue
REFRESH-INTERVAL;VALUE=DURATION:PT1H
X-Robots-Tag:noindex
X-PUBLISHED-TTL:PT1H
BEGIN:VTIMEZONE
TZID:America/Phoenix
BEGIN:STANDARD
TZOFFSETFROM:-0700
TZOFFSETTO:-0700
TZNAME:MST
DTSTART:20250101T000000
END:STANDARD
END:VTIMEZONE
BEGIN:VEVENT
DTSTART;TZID=America/Phoenix:20260424T154500
DTEND;TZID=America/Phoenix:20260424T170000
DTSTAMP:20260421T181004
CREATED:20260412T184058Z
LAST-MODIFIED:20260412T184107Z
UID:10001548-1777045500-1777050000@www.jcsvv.org
SUMMARY:Shalom Singers Choir Rehearsal for Israel Independence Day
DESCRIPTION:Shalom Singers Choir Rehearsal \nFriday\, April 24\, 2026\n3:45 – 5:00 pm \nJCSVV Sanctuary \nDirected by Katherine LaTorraca
URL:https://www.jcsvv.org/event/shalom-singers-choir-rehearsal-for-israel-independence-day/
END:VEVENT
BEGIN:VEVENT
DTSTART;TZID=America/Phoenix:20260423T160000
DTEND;TZID=America/Phoenix:20260423T173000
DTSTAMP:20260421T181004
CREATED:20260109T210709Z
LAST-MODIFIED:20260331T224720Z
UID:10000130-1776960000-1776965400@www.jcsvv.org
SUMMARY:Torah Study
DESCRIPTION:Thursday afternoons\n4:00 – 5:30 p.m. \n \nLearn together with Rabbi Magal about the weekly Torah portion from many perspectives and commentaries. Currently on Zoom. \nClick Here to Join Zoom
URL:https://www.jcsvv.org/event/torah-study/2026-04-23/
END:VEVENT
BEGIN:VEVENT
DTSTART;TZID=America/Phoenix:20260423T130000
DTEND;TZID=America/Phoenix:20260423T150000
DTSTAMP:20260421T181004
CREATED:20260412T183431Z
LAST-MODIFIED:20260412T183431Z
UID:10001546-1776949200-1776956400@www.jcsvv.org
SUMMARY:Shalom Singers Choir Rehearsal for Yom Ha-Atzma'ut
DESCRIPTION:Shalom Singers Choir Rehearsal for Yom Ha-Atzma’ut – Israel Independence Day\nThursday\, April 23\, 2026\n1:00 – 3:00 pm \nJCSVV Sanctuary \nDirected by Katherine LaTorraca
URL:https://www.jcsvv.org/event/shalom-singers-choir-rehearsal-for-yom-ha-atzmaut/
END:VEVENT
BEGIN:VEVENT
DTSTART;TZID=America/Phoenix:20260422T160000
DTEND;TZID=America/Phoenix:20260422T170000
DTSTAMP:20260421T181004
CREATED:20260227T182153Z
LAST-MODIFIED:20260323T183211Z
UID:10001027-1776873600-1776877200@www.jcsvv.org
SUMMARY:Jewish Meditation
DESCRIPTION:Wednesdays at 4:00 p.m. (MST)\non Zoom\n\nJoin Rabbi Magal and Rosalie Malter who lead a group in calming\, uplifting\, Jewish meditation practices. No previous experience with meditation needed.\n\nZoom only\nClick Here to Join
URL:https://www.jcsvv.org/event/jewish-meditation-3/2026-04-22/
END:VEVENT
BEGIN:VEVENT
DTSTART;TZID=America/Phoenix:20260422T083000
DTEND;TZID=America/Phoenix:20260422T083000
DTSTAMP:20260421T181004
CREATED:20260113T182101Z
LAST-MODIFIED:20260323T182954Z
UID:10000184-1776846600-1776846600@www.jcsvv.org
SUMMARY:Morning Minyan
DESCRIPTION:Led by Rabbi Alicia Magal\nWednesdays at 8:30 a.m. (MST)\non Zoom\nJoin members in welcoming the new day with this participatory Wednesday morning Shacharit minyan led by Rabbi Magal. Offer a blessing for healing or say Kaddish for a loved one. Currently on Zoom.\nClick Here to Join
URL:https://www.jcsvv.org/event/morning-minyan/2026-04-22/
END:VEVENT
BEGIN:VEVENT
DTSTART;TZID=America/Phoenix:20260419T150000
DTEND;TZID=America/Phoenix:20260419T163000
DTSTAMP:20260421T181004
CREATED:20260212T015703Z
LAST-MODIFIED:20260406T203942Z
UID:10000751-1776610800-1776616200@www.jcsvv.org
SUMMARY:Red Rocks Music Festival - Reminiscences
DESCRIPTION:REMINISCENCES\nSave the Date for an Unforgettable Afternoon!\nOn Sunday\, April 19th\, at 3:00 PM\, the Red Rocks Music Festival will host a special concert in commemoration of Yom Hashoah\, Holocaust Day. This event will take place at the  Jewish Community of Sedona and the Verde Valley Synagogue. \nFeatured performers include Christopher Creviston (saxophone)\, Hannah Creviston (piano)\, and soprano Amanda DeMaris. Violinist Moshe Bukshpan will also perform. \nThe concert will feature selections composed during and inspired by the Holocaust\, including works by Leo Smith\, Erwin Schulhoff\, Ellwood Der\, Stacy Garrop\, and John Williams. \nClick Here for Tickets and additional information
URL:https://www.jcsvv.org/event/https-www-jcsvv-org-red-rocks-music-festival-concert/
END:VEVENT
BEGIN:VEVENT
DTSTART;TZID=America/Phoenix:20260417T173000
DTEND;TZID=America/Phoenix:20260417T193000
DTSTAMP:20260421T181004
CREATED:20260411T172849Z
LAST-MODIFIED:20260412T172404Z
UID:10000028-1776447000-1776454200@www.jcsvv.org
SUMMARY:Erev Shabbat Service Led by Rabbi Alicia Magal - Holocaust Remembrance Day\, Shalom Singers\, Sponsored Oneg
DESCRIPTION:Erev Shabbat Service\n\nLed by Rabbi Alicia Magal\nFriday\, April 17\, 2026\n5:30 pm (MST)\n\n \n\n\n\n\nWelcome in Shabbat with this joyous service of song\, blessings\, Torah reading\, and Kaddish\, mourner’s prayer.\n \nFeaturing the Shalom Singers choir adding songs related to Holocaust Remembrance Day which was observed during the week. \nSix candles will be lit at the beginning of the service in memory of the Six Million Jews killed during the Holocaust. \nPlease join us for an Oneg following the service sponsored by Rabbi Magal and Sheila Jackman in honor of Itzhak Magal’s and Sheila’s birthdays.\nEveryone is welcome!\n\n\n\n\nClick Here to Join with Zoom
URL:https://www.jcsvv.org/event/erev-shabbat-service-led-by-rabbi-alicia-magal-7/
END:VEVENT
BEGIN:VEVENT
DTSTART;TZID=America/Phoenix:20260417T154500
DTEND;TZID=America/Phoenix:20260417T170000
DTSTAMP:20260421T181004
CREATED:20260412T183818Z
LAST-MODIFIED:20260412T183835Z
UID:10001547-1776440700-1776445200@www.jcsvv.org
SUMMARY:Shalom Singers Choir Rehearsal for Holocaust Remembrance Day
DESCRIPTION:Shalom Singers Choir Rehearsal \nFriday\, April 17\, 2026\n3:45 – 5:00 pm \nJCSVV Sanctuary \nDirected by Katherine LaTorraca
URL:https://www.jcsvv.org/event/shalom-singers-choir-rehearsal-for-holocaust-remembrance-day/
END:VEVENT
BEGIN:VEVENT
DTSTART;TZID=America/Phoenix:20260416T160000
DTEND;TZID=America/Phoenix:20260416T173000
DTSTAMP:20260421T181004
CREATED:20260109T210709Z
LAST-MODIFIED:20260331T224720Z
UID:10000129-1776355200-1776360600@www.jcsvv.org
SUMMARY:Torah Study
DESCRIPTION:Thursday afternoons\n4:00 – 5:30 p.m. \n \nLearn together with Rabbi Magal about the weekly Torah portion from many perspectives and commentaries. Currently on Zoom. \nClick Here to Join Zoom
URL:https://www.jcsvv.org/event/torah-study/2026-04-16/
END:VEVENT
BEGIN:VEVENT
DTSTART;TZID=America/Phoenix:20260416T130000
DTEND;TZID=America/Phoenix:20260416T150000
DTSTAMP:20260421T181005
CREATED:20260412T175458Z
LAST-MODIFIED:20260412T175458Z
UID:10001545-1776344400-1776351600@www.jcsvv.org
SUMMARY:Shalom Singers Choir Rehearsal for Yom Hashoa
DESCRIPTION:Shalom Singers Choir Rehearsal for Yom Hashoa\nThursday\, April 16\, 2026\n1:00 – 3:00 pm \nJCSVV Sanctuary \nDirected by Katherine LaTorraca
URL:https://www.jcsvv.org/event/shalom-singers-choir-rehearsal-for-yom-hashoa/
END:VEVENT
BEGIN:VEVENT
DTSTART;TZID=America/Phoenix:20260415T160000
DTEND;TZID=America/Phoenix:20260415T170000
DTSTAMP:20260421T181005
CREATED:20260227T182153Z
LAST-MODIFIED:20260323T183211Z
UID:10001026-1776268800-1776272400@www.jcsvv.org
SUMMARY:Jewish Meditation
DESCRIPTION:Wednesdays at 4:00 p.m. (MST)\non Zoom\n\nJoin Rabbi Magal and Rosalie Malter who lead a group in calming\, uplifting\, Jewish meditation practices. No previous experience with meditation needed.\n\nZoom only\nClick Here to Join
URL:https://www.jcsvv.org/event/jewish-meditation-3/2026-04-15/
END:VEVENT
BEGIN:VEVENT
DTSTART;TZID=America/Phoenix:20260415T093000
DTEND;TZID=America/Phoenix:20260415T103000
DTSTAMP:20260421T181005
CREATED:20260129T042328Z
LAST-MODIFIED:20260129T042328Z
UID:10000626-1776245400-1776249000@www.jcsvv.org
SUMMARY:Religious Affairs Committee Meeting
DESCRIPTION:
URL:https://www.jcsvv.org/event/religious-affairs-committee-meeting-2/2026-04-15/
END:VEVENT
BEGIN:VEVENT
DTSTART;TZID=America/Phoenix:20260415T083000
DTEND;TZID=America/Phoenix:20260415T083000
DTSTAMP:20260421T181005
CREATED:20260113T182101Z
LAST-MODIFIED:20260323T182954Z
UID:10000183-1776241800-1776241800@www.jcsvv.org
SUMMARY:Morning Minyan
DESCRIPTION:Led by Rabbi Alicia Magal\nWednesdays at 8:30 a.m. (MST)\non Zoom\nJoin members in welcoming the new day with this participatory Wednesday morning Shacharit minyan led by Rabbi Magal. Offer a blessing for healing or say Kaddish for a loved one. Currently on Zoom.\nClick Here to Join
URL:https://www.jcsvv.org/event/morning-minyan/2026-04-15/
END:VEVENT
BEGIN:VEVENT
DTSTART;TZID=America/Phoenix:20260410T173000
DTEND;TZID=America/Phoenix:20260410T193000
DTSTAMP:20260421T181005
CREATED:20260109T205932Z
LAST-MODIFIED:20260109T211016Z
UID:10000027-1775842200-1775849400@www.jcsvv.org
SUMMARY:Erev Shabbat Service Led by Rabbi Alicia Magal
DESCRIPTION:Erev Shabbat Service\n\nLed by Rabbi Alicia Magal\nFriday at 5:30 pm (MST)\n\n \n\n\n\n\nWelcome in Shabbat with this joyous service of song\, blessings\, Torah reading\, and Kaddish\, mourner’s prayer.\nPlease join us for an Oneg following the service.\nEveryone is welcome!\nWe hope you will join us!\n\n\n\n\nClick Here to Join with Zoom
URL:https://www.jcsvv.org/event/erev-shabbat-service-led-by-rabbi-alicia-magal/2026-04-10/
END:VEVENT
BEGIN:VEVENT
DTSTART;TZID=America/Phoenix:20260409T160000
DTEND;TZID=America/Phoenix:20260409T173000
DTSTAMP:20260421T181005
CREATED:20260109T210709Z
LAST-MODIFIED:20260331T224720Z
UID:10000128-1775750400-1775755800@www.jcsvv.org
SUMMARY:Torah Study
DESCRIPTION:Thursday afternoons\n4:00 – 5:30 p.m. \n \nLearn together with Rabbi Magal about the weekly Torah portion from many perspectives and commentaries. Currently on Zoom. \nClick Here to Join Zoom
URL:https://www.jcsvv.org/event/torah-study/2026-04-09/
END:VEVENT
BEGIN:VEVENT
DTSTART;TZID=America/Phoenix:20260408T160000
DTEND;TZID=America/Phoenix:20260408T170000
DTSTAMP:20260421T181005
CREATED:20260227T182153Z
LAST-MODIFIED:20260323T183211Z
UID:10001025-1775664000-1775667600@www.jcsvv.org
SUMMARY:Jewish Meditation
DESCRIPTION:Wednesdays at 4:00 p.m. (MST)\non Zoom\n\nJoin Rabbi Magal and Rosalie Malter who lead a group in calming\, uplifting\, Jewish meditation practices. No previous experience with meditation needed.\n\nZoom only\nClick Here to Join
URL:https://www.jcsvv.org/event/jewish-meditation-3/2026-04-08/
END:VEVENT
BEGIN:VEVENT
DTSTART;TZID=America/Phoenix:20260408T083000
DTEND;TZID=America/Phoenix:20260408T083000
DTSTAMP:20260421T181005
CREATED:20260113T182101Z
LAST-MODIFIED:20260323T182954Z
UID:10000182-1775637000-1775637000@www.jcsvv.org
SUMMARY:Morning Minyan
DESCRIPTION:Led by Rabbi Alicia Magal\nWednesdays at 8:30 a.m. (MST)\non Zoom\nJoin members in welcoming the new day with this participatory Wednesday morning Shacharit minyan led by Rabbi Magal. Offer a blessing for healing or say Kaddish for a loved one. Currently on Zoom.\nClick Here to Join
URL:https://www.jcsvv.org/event/morning-minyan/2026-04-08/
END:VEVENT
BEGIN:VEVENT
DTSTART;TZID=America/Phoenix:20260403T190000
DTEND;TZID=America/Phoenix:20260403T200000
DTSTAMP:20260421T181005
CREATED:20260205T204230Z
LAST-MODIFIED:20260205T204413Z
UID:10000026-1775242800-1775246400@www.jcsvv.org
SUMMARY:Erev Shabbat Service Led by Rabbi Alicia Magal
DESCRIPTION:Erev Shabbat Service\n\nLed by Rabbi Alicia Magal\nNote late start time – Friday\, April 3rd at 7:00 pm (MST)\n\n \n\n\n\n\nWelcome in Shabbat with this joyous service of song\, blessings\, Torah reading\, and Kaddish\, mourner’s prayer.\nPlease join us for an Oneg following the service.\nEveryone is welcome!\nWe hope you will join us!\n\n\n\n\nClick Here to Join with Zoom
URL:https://www.jcsvv.org/event/erev-shabbat-service-led-by-rabbi-alicia-magal-4/
END:VEVENT
BEGIN:VEVENT
DTSTART;TZID=America/Phoenix:20260401T173000
DTEND;TZID=America/Phoenix:20260401T173000
DTSTAMP:20260421T181005
CREATED:20260203T150640Z
LAST-MODIFIED:20260203T150758Z
UID:10000748-1775064600-1775064600@www.jcsvv.org
SUMMARY:Passover First Seder
DESCRIPTION:
URL:https://www.jcsvv.org/event/passover-first-seder/
END:VEVENT
BEGIN:VEVENT
DTSTART;TZID=America/Phoenix:20260328T190000
DTEND;TZID=America/Phoenix:20260328T203000
DTSTAMP:20260421T181005
CREATED:20260130T194551Z
LAST-MODIFIED:20260206T170848Z
UID:10000745-1774724400-1774729800@www.jcsvv.org
SUMMARY:Klezmer Concert
DESCRIPTION:KLEZMER CONCERT\nSaturday\, March 28th\n7:00 PM at the JCSVV\nA New Generation of Klezmer and Yiddish Song will be presented by professional klezmer violinist Jake Shulman-Ment and singer/songwriter/multi-instrumentalist Jordan Wax.  The two musicians are dedicated to preserving and advancing Yiddish music\, language and culture. \n$25 JCSVV members; $30 non-members\nOrder Form Below. Submit today! \nCome join us for what should be a most interesting and joyous musical experience! \n\n\n                \n                        \n							"*" indicates required fields \n                        \n                        JCSVV Member Ticket Price Quantity\n					\n					\n						Price:\n						$25.00\n					\n					\n					 Quantity \n				Non-Member Ticket Price Quantity\n					\n					\n						Price:\n						$30.00\n					\n					\n					 Quantity \n				Payment InformationPayment Method*Indicate your method of payment by checking one of the options below:\n			\n					\n					Credit card\n			\n			\n					\n					Check\n			JCSVV adds a 3% card processing fee to all credit card transactions in order to help defer the cost of the credit card processing fees.\n					\n					\n						Price:\n						$0.00\n					\n					\n					\n				Total\n							\n						Credit Card\n                                    American ExpressDiscoverMasterCardVisaSupported Credit Cards: American Express\, Discover\, MasterCard\, Visa\n                                    Card Number\n                                    \n                                 \n                                            \n                                            Expiration Date\n                                                \n                                                   \n                                                       Month\n                                                       \n                                                           Month010203040506070809101112\n                                                       \n                                                   \n                                                   \n                                                       Year\n                                                       \n                                                           Year20262027202820292030203120322033203420352036203720382039204020412042204320442045\n                                                       \n                                                   \n                                                \n                                            \n                                                Security Code\n                                                \n                                                 \n                                             \n                                        \n                                            Cardholder Name\n                                            \n                                         Please send check to: JCSVV P.O. Box 13\, Sedona\, AZ 86336. Designate “Red Rocks Music Festival” on check. Billing Name*\n                            \n                            \n                                                    First\n                                                    \n                                                \n                            \n                            \n                                                            Last\n                                                            \n                                                        \n                            \n                        Billing Address*    \n                    \n                         \n                                        Street Address\n                                        \n                                   \n                                        Address Line 2\n                                        \n                                    \n                                    City\n                                    \n                                 \n                                        State\n                                        AlabamaAlaskaAmerican SamoaArizonaArkansasCaliforniaColoradoConnecticutDelawareDistrict of ColumbiaFloridaGeorgiaGuamHawaiiIdahoIllinoisIndianaIowaKansasKentuckyLouisianaMaineMarylandMassachusettsMichiganMinnesotaMississippiMissouriMontanaNebraskaNevadaNew HampshireNew JerseyNew MexicoNew YorkNorth CarolinaNorth DakotaNorthern Mariana IslandsOhioOklahomaOregonPennsylvaniaPuerto RicoRhode IslandSouth CarolinaSouth DakotaTennesseeTexasUtahU.S. Virgin IslandsVermontVirginiaWashingtonWest VirginiaWisconsinWyomingArmed Forces AmericasArmed Forces EuropeArmed Forces Pacific\n                                      \n                                    ZIP Code\n                                    \n                                \n                    \n                Email*\n                            \n                        Phone*CAPTCHAThank you. You will receive an email confirmation upon submission. \n          \n            \n            \n            \n            \n            \n            \n            \n            \n            \n            \n            \n            \n            \n        \n                        Δ \n                        \n\n  \n  \n 
URL:https://www.jcsvv.org/event/klezmer-concert/
END:VEVENT
BEGIN:VEVENT
DTSTART;TZID=America/Phoenix:20260327T173000
DTEND;TZID=America/Phoenix:20260327T193000
DTSTAMP:20260421T181005
CREATED:20260109T205932Z
LAST-MODIFIED:20260109T211016Z
UID:10000025-1774632600-1774639800@www.jcsvv.org
SUMMARY:Erev Shabbat Service Led by Rabbi Alicia Magal
DESCRIPTION:Erev Shabbat Service\n\nLed by Rabbi Alicia Magal\nFriday at 5:30 pm (MST)\n\n \n\n\n\n\nWelcome in Shabbat with this joyous service of song\, blessings\, Torah reading\, and Kaddish\, mourner’s prayer.\nPlease join us for an Oneg following the service.\nEveryone is welcome!\nWe hope you will join us!\n\n\n\n\nClick Here to Join with Zoom
URL:https://www.jcsvv.org/event/erev-shabbat-service-led-by-rabbi-alicia-magal/2026-03-27/
END:VEVENT
BEGIN:VEVENT
DTSTART;TZID=America/Phoenix:20260326T160000
DTEND;TZID=America/Phoenix:20260326T173000
DTSTAMP:20260421T181005
CREATED:20260109T210709Z
LAST-MODIFIED:20260331T224720Z
UID:10000126-1774540800-1774546200@www.jcsvv.org
SUMMARY:Torah Study
DESCRIPTION:Thursday afternoons\n4:00 – 5:30 p.m. \n \nLearn together with Rabbi Magal about the weekly Torah portion from many perspectives and commentaries. Currently on Zoom. \nClick Here to Join Zoom
URL:https://www.jcsvv.org/event/torah-study/2026-03-26/
END:VEVENT
BEGIN:VEVENT
DTSTART;TZID=America/Phoenix:20260325T160000
DTEND;TZID=America/Phoenix:20260325T170000
DTSTAMP:20260421T181005
CREATED:20260227T182153Z
LAST-MODIFIED:20260323T183211Z
UID:10001023-1774454400-1774458000@www.jcsvv.org
SUMMARY:Jewish Meditation
DESCRIPTION:Wednesdays at 4:00 p.m. (MST)\non Zoom\n\nJoin Rabbi Magal and Rosalie Malter who lead a group in calming\, uplifting\, Jewish meditation practices. No previous experience with meditation needed.\n\nZoom only\nClick Here to Join
URL:https://www.jcsvv.org/event/jewish-meditation-3/2026-03-25/
END:VEVENT
BEGIN:VEVENT
DTSTART;TZID=America/Phoenix:20260325T083000
DTEND;TZID=America/Phoenix:20260325T083000
DTSTAMP:20260421T181005
CREATED:20260113T182101Z
LAST-MODIFIED:20260323T182954Z
UID:10000180-1774427400-1774427400@www.jcsvv.org
SUMMARY:Morning Minyan
DESCRIPTION:Led by Rabbi Alicia Magal\nWednesdays at 8:30 a.m. (MST)\non Zoom\nJoin members in welcoming the new day with this participatory Wednesday morning Shacharit minyan led by Rabbi Magal. Offer a blessing for healing or say Kaddish for a loved one. Currently on Zoom.\nClick Here to Join
URL:https://www.jcsvv.org/event/morning-minyan/2026-03-25/
END:VEVENT
BEGIN:VEVENT
DTSTART;TZID=America/Phoenix:20260320T173000
DTEND;TZID=America/Phoenix:20260320T193000
DTSTAMP:20260421T181005
CREATED:20260109T205932Z
LAST-MODIFIED:20260109T211016Z
UID:10000024-1774027800-1774035000@www.jcsvv.org
SUMMARY:Erev Shabbat Service Led by Rabbi Alicia Magal
DESCRIPTION:Erev Shabbat Service\n\nLed by Rabbi Alicia Magal\nFriday at 5:30 pm (MST)\n\n \n\n\n\n\nWelcome in Shabbat with this joyous service of song\, blessings\, Torah reading\, and Kaddish\, mourner’s prayer.\nPlease join us for an Oneg following the service.\nEveryone is welcome!\nWe hope you will join us!\n\n\n\n\nClick Here to Join with Zoom
URL:https://www.jcsvv.org/event/erev-shabbat-service-led-by-rabbi-alicia-magal/2026-03-20/
END:VEVENT
BEGIN:VEVENT
DTSTART;TZID=America/Phoenix:20260319T160000
DTEND;TZID=America/Phoenix:20260319T173000
DTSTAMP:20260421T181005
CREATED:20260109T210709Z
LAST-MODIFIED:20260331T224720Z
UID:10000125-1773936000-1773941400@www.jcsvv.org
SUMMARY:Torah Study
DESCRIPTION:Thursday afternoons\n4:00 – 5:30 p.m. \n \nLearn together with Rabbi Magal about the weekly Torah portion from many perspectives and commentaries. Currently on Zoom. \nClick Here to Join Zoom
URL:https://www.jcsvv.org/event/torah-study/2026-03-19/
END:VEVENT
BEGIN:VEVENT
DTSTART;TZID=America/Phoenix:20260319T110000
DTEND;TZID=America/Phoenix:20260319T123000
DTSTAMP:20260421T181005
CREATED:20260303T183835Z
LAST-MODIFIED:20260303T183835Z
UID:10001281-1773918000-1773923400@www.jcsvv.org
SUMMARY:Interfaith Luncheon
DESCRIPTION:Interfaith Luncheon\nThursday\, March 19th\n11:00 am\nLocation: Christ Lutheran Church\, 25 Chapel Rd\, Sedona\nPlease RSVP as soon as you can so we can let Lutheran Women know how many will be coming: havurah@jcsvv.org
URL:https://www.jcsvv.org/event/interfaith-luncheon/
END:VEVENT
BEGIN:VEVENT
DTSTART;TZID=America/Phoenix:20260318T160000
DTEND;TZID=America/Phoenix:20260318T170000
DTSTAMP:20260421T181005
CREATED:20260227T182153Z
LAST-MODIFIED:20260323T183211Z
UID:10001022-1773849600-1773853200@www.jcsvv.org
SUMMARY:Jewish Meditation
DESCRIPTION:Wednesdays at 4:00 p.m. (MST)\non Zoom\n\nJoin Rabbi Magal and Rosalie Malter who lead a group in calming\, uplifting\, Jewish meditation practices. No previous experience with meditation needed.\n\nZoom only\nClick Here to Join
URL:https://www.jcsvv.org/event/jewish-meditation-3/2026-03-18/
END:VEVENT
BEGIN:VEVENT
DTSTART;TZID=America/Phoenix:20260318T093000
DTEND;TZID=America/Phoenix:20260318T103000
DTSTAMP:20260421T181005
CREATED:20260129T042328Z
LAST-MODIFIED:20260129T042328Z
UID:10000625-1773826200-1773829800@www.jcsvv.org
SUMMARY:Religious Affairs Committee Meeting
DESCRIPTION:
URL:https://www.jcsvv.org/event/religious-affairs-committee-meeting-2/2026-03-18/
END:VEVENT
BEGIN:VEVENT
DTSTART;TZID=America/Phoenix:20260318T083000
DTEND;TZID=America/Phoenix:20260318T083000
DTSTAMP:20260421T181005
CREATED:20260113T182101Z
LAST-MODIFIED:20260323T182954Z
UID:10000179-1773822600-1773822600@www.jcsvv.org
SUMMARY:Morning Minyan
DESCRIPTION:Led by Rabbi Alicia Magal\nWednesdays at 8:30 a.m. (MST)\non Zoom\nJoin members in welcoming the new day with this participatory Wednesday morning Shacharit minyan led by Rabbi Magal. Offer a blessing for healing or say Kaddish for a loved one. Currently on Zoom.\nClick Here to Join
URL:https://www.jcsvv.org/event/morning-minyan/2026-03-18/
END:VEVENT
END:VCALENDAR