BEGIN:VCALENDAR
VERSION:2.0
PRODID:-//Jewish Community of Sedona and the Verde Valley Synagogue - ECPv6.15.20//NONSGML v1.0//EN
CALSCALE:GREGORIAN
METHOD:PUBLISH
X-WR-CALNAME:Jewish Community of Sedona and the Verde Valley Synagogue
X-ORIGINAL-URL:https://www.jcsvv.org
X-WR-CALDESC:Events for Jewish Community of Sedona and the Verde Valley Synagogue
REFRESH-INTERVAL;VALUE=DURATION:PT1H
X-Robots-Tag:noindex
X-PUBLISHED-TTL:PT1H
BEGIN:VTIMEZONE
TZID:America/Phoenix
BEGIN:STANDARD
TZOFFSETFROM:-0700
TZOFFSETTO:-0700
TZNAME:MST
DTSTART:20250101T000000
END:STANDARD
END:VTIMEZONE
BEGIN:VEVENT
DTSTART;TZID=America/Phoenix:20260521T160000
DTEND;TZID=America/Phoenix:20260521T173000
DTSTAMP:20260421T023504
CREATED:20260109T210709Z
LAST-MODIFIED:20260331T224720Z
UID:10000134-1779379200-1779384600@www.jcsvv.org
SUMMARY:Torah Study
DESCRIPTION:Thursday afternoons\n4:00 – 5:30 p.m. \n \nLearn together with Rabbi Magal about the weekly Torah portion from many perspectives and commentaries. Currently on Zoom. \nClick Here to Join Zoom
URL:https://www.jcsvv.org/event/torah-study/2026-05-21/
END:VEVENT
BEGIN:VEVENT
DTSTART;TZID=America/Phoenix:20260520T160000
DTEND;TZID=America/Phoenix:20260520T170000
DTSTAMP:20260421T023504
CREATED:20260227T182153Z
LAST-MODIFIED:20260323T183211Z
UID:10001031-1779292800-1779296400@www.jcsvv.org
SUMMARY:Jewish Meditation
DESCRIPTION:Wednesdays at 4:00 p.m. (MST)\non Zoom\n\nJoin Rabbi Magal and Rosalie Malter who lead a group in calming\, uplifting\, Jewish meditation practices. No previous experience with meditation needed.\n\nZoom only\nClick Here to Join
URL:https://www.jcsvv.org/event/jewish-meditation-3/2026-05-20/
END:VEVENT
BEGIN:VEVENT
DTSTART;TZID=America/Phoenix:20260520T093000
DTEND;TZID=America/Phoenix:20260520T103000
DTSTAMP:20260421T023504
CREATED:20260129T042328Z
LAST-MODIFIED:20260129T042328Z
UID:10000627-1779269400-1779273000@www.jcsvv.org
SUMMARY:Religious Affairs Committee Meeting
DESCRIPTION:
URL:https://www.jcsvv.org/event/religious-affairs-committee-meeting-2/2026-05-20/
END:VEVENT
BEGIN:VEVENT
DTSTART;TZID=America/Phoenix:20260520T083000
DTEND;TZID=America/Phoenix:20260520T083000
DTSTAMP:20260421T023504
CREATED:20260113T182101Z
LAST-MODIFIED:20260323T182954Z
UID:10000188-1779265800-1779265800@www.jcsvv.org
SUMMARY:Morning Minyan
DESCRIPTION:Led by Rabbi Alicia Magal\nWednesdays at 8:30 a.m. (MST)\non Zoom\nJoin members in welcoming the new day with this participatory Wednesday morning Shacharit minyan led by Rabbi Magal. Offer a blessing for healing or say Kaddish for a loved one. Currently on Zoom.\nClick Here to Join
URL:https://www.jcsvv.org/event/morning-minyan/2026-05-20/
END:VEVENT
BEGIN:VEVENT
DTSTART;TZID=America/Phoenix:20260517T100000
DTEND;TZID=America/Phoenix:20260517T130000
DTSTAMP:20260421T023504
CREATED:20260114T220907Z
LAST-MODIFIED:20260114T220909Z
UID:10000551-1779012000-1779022800@www.jcsvv.org
SUMMARY:Board of Directors Meeting
DESCRIPTION:Board of Directors Meeting\nMembers welcome to attend \nNote: May 17th meeting is ZOOM only \nJoin Zoom Meeting:\nhttps://us02web.zoom.us/j/89635157200?pwd=eHE3UXY3Qjk0RXVpVTV6VHdxVW1zUT09\nMeeting ID: 896 3515 7200
URL:https://www.jcsvv.org/event/board-of-directors-meeting-4-2/
END:VEVENT
BEGIN:VEVENT
DTSTART;TZID=America/Phoenix:20260515T173000
DTEND;TZID=America/Phoenix:20260515T193000
DTSTAMP:20260421T023504
CREATED:20260109T205932Z
LAST-MODIFIED:20260109T211016Z
UID:10000032-1778866200-1778873400@www.jcsvv.org
SUMMARY:Erev Shabbat Service Led by Rabbi Alicia Magal
DESCRIPTION:Erev Shabbat Service\n\nLed by Rabbi Alicia Magal\nFriday at 5:30 pm (MST)\n\n \n\n\n\n\nWelcome in Shabbat with this joyous service of song\, blessings\, Torah reading\, and Kaddish\, mourner’s prayer.\nPlease join us for an Oneg following the service.\nEveryone is welcome!\nWe hope you will join us!\n\n\n\n\nClick Here to Join with Zoom
URL:https://www.jcsvv.org/event/erev-shabbat-service-led-by-rabbi-alicia-magal/2026-05-15/
END:VEVENT
BEGIN:VEVENT
DTSTART;TZID=America/Phoenix:20260515T173000
DTEND;TZID=America/Phoenix:20260515T183000
DTSTAMP:20260421T023504
CREATED:20260205T204551Z
LAST-MODIFIED:20260407T223238Z
UID:10001289-1778866200-1778869800@www.jcsvv.org
SUMMARY:Erev Shabbat Service Led by Rabbi Alicia Magal
DESCRIPTION:Erev Shabbat Service\nNote – Start Time: 5:30 pm (MST)\n\n \n\n\n\n\nWelcome in Shabbat with this joyous service of song\, blessings\, Torah reading\, and Kaddish\, mourner’s prayer.\nPlease join us for an Oneg following the service.\nEveryone is welcome!\nWe hope you will join us!\n\n\n\n\nClick Here to Join with Zoom
URL:https://www.jcsvv.org/event/erev-shabbat-service-led-by-rabbi-alicia-magal-5/2026-05-15/
END:VEVENT
BEGIN:VEVENT
DTSTART;TZID=America/Phoenix:20260514T160000
DTEND;TZID=America/Phoenix:20260514T173000
DTSTAMP:20260421T023504
CREATED:20260109T210709Z
LAST-MODIFIED:20260331T224720Z
UID:10000133-1778774400-1778779800@www.jcsvv.org
SUMMARY:Torah Study
DESCRIPTION:Thursday afternoons\n4:00 – 5:30 p.m. \n \nLearn together with Rabbi Magal about the weekly Torah portion from many perspectives and commentaries. Currently on Zoom. \nClick Here to Join Zoom
URL:https://www.jcsvv.org/event/torah-study/2026-05-14/
END:VEVENT
BEGIN:VEVENT
DTSTART;TZID=America/Phoenix:20260513T160000
DTEND;TZID=America/Phoenix:20260513T170000
DTSTAMP:20260421T023504
CREATED:20260227T182153Z
LAST-MODIFIED:20260323T183211Z
UID:10001030-1778688000-1778691600@www.jcsvv.org
SUMMARY:Jewish Meditation
DESCRIPTION:Wednesdays at 4:00 p.m. (MST)\non Zoom\n\nJoin Rabbi Magal and Rosalie Malter who lead a group in calming\, uplifting\, Jewish meditation practices. No previous experience with meditation needed.\n\nZoom only\nClick Here to Join
URL:https://www.jcsvv.org/event/jewish-meditation-3/2026-05-13/
END:VEVENT
BEGIN:VEVENT
DTSTART;TZID=America/Phoenix:20260513T083000
DTEND;TZID=America/Phoenix:20260513T083000
DTSTAMP:20260421T023504
CREATED:20260113T182101Z
LAST-MODIFIED:20260323T182954Z
UID:10000187-1778661000-1778661000@www.jcsvv.org
SUMMARY:Morning Minyan
DESCRIPTION:Led by Rabbi Alicia Magal\nWednesdays at 8:30 a.m. (MST)\non Zoom\nJoin members in welcoming the new day with this participatory Wednesday morning Shacharit minyan led by Rabbi Magal. Offer a blessing for healing or say Kaddish for a loved one. Currently on Zoom.\nClick Here to Join
URL:https://www.jcsvv.org/event/morning-minyan/2026-05-13/
END:VEVENT
BEGIN:VEVENT
DTSTART;TZID=America/Phoenix:20260508T173000
DTEND;TZID=America/Phoenix:20260508T193000
DTSTAMP:20260421T023504
CREATED:20260109T205932Z
LAST-MODIFIED:20260109T211016Z
UID:10000031-1778261400-1778268600@www.jcsvv.org
SUMMARY:Erev Shabbat Service Led by Rabbi Alicia Magal
DESCRIPTION:Erev Shabbat Service\n\nLed by Rabbi Alicia Magal\nFriday at 5:30 pm (MST)\n\n \n\n\n\n\nWelcome in Shabbat with this joyous service of song\, blessings\, Torah reading\, and Kaddish\, mourner’s prayer.\nPlease join us for an Oneg following the service.\nEveryone is welcome!\nWe hope you will join us!\n\n\n\n\nClick Here to Join with Zoom
URL:https://www.jcsvv.org/event/erev-shabbat-service-led-by-rabbi-alicia-magal/2026-05-08/
END:VEVENT
BEGIN:VEVENT
DTSTART;TZID=America/Phoenix:20260508T173000
DTEND;TZID=America/Phoenix:20260508T183000
DTSTAMP:20260421T023504
CREATED:20260205T204551Z
LAST-MODIFIED:20260407T223238Z
UID:10001288-1778261400-1778265000@www.jcsvv.org
SUMMARY:Erev Shabbat Service Led by Rabbi Alicia Magal
DESCRIPTION:Erev Shabbat Service\nNote – Start Time: 5:30 pm (MST)\n\n \n\n\n\n\nWelcome in Shabbat with this joyous service of song\, blessings\, Torah reading\, and Kaddish\, mourner’s prayer.\nPlease join us for an Oneg following the service.\nEveryone is welcome!\nWe hope you will join us!\n\n\n\n\nClick Here to Join with Zoom
URL:https://www.jcsvv.org/event/erev-shabbat-service-led-by-rabbi-alicia-magal-5/2026-05-08/
END:VEVENT
BEGIN:VEVENT
DTSTART;TZID=America/Phoenix:20260507T160000
DTEND;TZID=America/Phoenix:20260507T173000
DTSTAMP:20260421T023504
CREATED:20260109T210709Z
LAST-MODIFIED:20260331T224720Z
UID:10000132-1778169600-1778175000@www.jcsvv.org
SUMMARY:Torah Study
DESCRIPTION:Thursday afternoons\n4:00 – 5:30 p.m. \n \nLearn together with Rabbi Magal about the weekly Torah portion from many perspectives and commentaries. Currently on Zoom. \nClick Here to Join Zoom
URL:https://www.jcsvv.org/event/torah-study/2026-05-07/
END:VEVENT
BEGIN:VEVENT
DTSTART;TZID=America/Phoenix:20260506T160000
DTEND;TZID=America/Phoenix:20260506T170000
DTSTAMP:20260421T023504
CREATED:20260227T182153Z
LAST-MODIFIED:20260323T183211Z
UID:10001029-1778083200-1778086800@www.jcsvv.org
SUMMARY:Jewish Meditation
DESCRIPTION:Wednesdays at 4:00 p.m. (MST)\non Zoom\n\nJoin Rabbi Magal and Rosalie Malter who lead a group in calming\, uplifting\, Jewish meditation practices. No previous experience with meditation needed.\n\nZoom only\nClick Here to Join
URL:https://www.jcsvv.org/event/jewish-meditation-3/2026-05-06/
END:VEVENT
BEGIN:VEVENT
DTSTART;TZID=America/Phoenix:20260506T113000
DTEND;TZID=America/Phoenix:20260506T113000
DTSTAMP:20260421T023504
CREATED:20260113T182132Z
LAST-MODIFIED:20260323T183512Z
UID:10000688-1778067000-1778067000@www.jcsvv.org
SUMMARY:Social Action Committee Meeting
DESCRIPTION:The Social Action Committee meets the 1st Wednesday of the month at 9:30 AM (MST). \nFor additional information please contact the Office or Patricia Eyres\, JCSVV Executive Vice President at: vicepresident@jcsvv.org
URL:https://www.jcsvv.org/event/social-action-committee/2026-05-06/
END:VEVENT
BEGIN:VEVENT
DTSTART;TZID=America/Phoenix:20260506T083000
DTEND;TZID=America/Phoenix:20260506T083000
DTSTAMP:20260421T023504
CREATED:20260113T182101Z
LAST-MODIFIED:20260323T182954Z
UID:10000186-1778056200-1778056200@www.jcsvv.org
SUMMARY:Morning Minyan
DESCRIPTION:Led by Rabbi Alicia Magal\nWednesdays at 8:30 a.m. (MST)\non Zoom\nJoin members in welcoming the new day with this participatory Wednesday morning Shacharit minyan led by Rabbi Magal. Offer a blessing for healing or say Kaddish for a loved one. Currently on Zoom.\nClick Here to Join
URL:https://www.jcsvv.org/event/morning-minyan/2026-05-06/
END:VEVENT
BEGIN:VEVENT
DTSTART;TZID=America/Phoenix:20260503T160000
DTEND;TZID=America/Phoenix:20260503T190000
DTSTAMP:20260421T023504
CREATED:20260303T185411Z
LAST-MODIFIED:20260323T193112Z
UID:10001282-1777824000-1777834800@www.jcsvv.org
SUMMARY:20th Anniversary Celebration
DESCRIPTION:A Congregational Platinum Celebration\nin Honor of Rabbi Magal\nSunday\, May 3\, 2026\n4:00 – 7:00 pm\n \n\n\n\n\n\nCelebrating 20 Years of Vision and Leadership\nat the Jewish Community of Sedona and the Verde Valley Synagogue\n100 Meadowlark Drive\nSedona\, AZ 86336 \n  \n  \nClick Here for Ticket Purchase:\nhttps://www.jcsvv.org/20th-anniversary-ticket-purchase \nClick Here to place a Tribute or an Ad in Program Book:\nhttps://www.jcsvv.org/20th-anniversary-program-book-purchase/
URL:https://www.jcsvv.org/event/20th-anniversary-celebration-in-honor-of-rabbi-alicia-magal/
END:VEVENT
BEGIN:VEVENT
DTSTART;TZID=America/Phoenix:20260501T173000
DTEND;TZID=America/Phoenix:20260501T183000
DTSTAMP:20260421T023504
CREATED:20260205T204551Z
LAST-MODIFIED:20260407T223238Z
UID:10000030-1777656600-1777660200@www.jcsvv.org
SUMMARY:Erev Shabbat Service Led by Rabbi Alicia Magal
DESCRIPTION:Erev Shabbat Service\nNote – Start Time: 5:30 pm (MST)\n\n \n\n\n\n\nWelcome in Shabbat with this joyous service of song\, blessings\, Torah reading\, and Kaddish\, mourner’s prayer.\nPlease join us for an Oneg following the service.\nEveryone is welcome!\nWe hope you will join us!\n\n\n\n\nClick Here to Join with Zoom
URL:https://www.jcsvv.org/event/erev-shabbat-service-led-by-rabbi-alicia-magal-5/2026-05-01/
END:VEVENT
BEGIN:VEVENT
DTSTART;TZID=America/Phoenix:20260430T160000
DTEND;TZID=America/Phoenix:20260430T173000
DTSTAMP:20260421T023504
CREATED:20260109T210709Z
LAST-MODIFIED:20260331T224720Z
UID:10000131-1777564800-1777570200@www.jcsvv.org
SUMMARY:Torah Study
DESCRIPTION:Thursday afternoons\n4:00 – 5:30 p.m. \n \nLearn together with Rabbi Magal about the weekly Torah portion from many perspectives and commentaries. Currently on Zoom. \nClick Here to Join Zoom
URL:https://www.jcsvv.org/event/torah-study/2026-04-30/
END:VEVENT
BEGIN:VEVENT
DTSTART;TZID=America/Phoenix:20260429T160000
DTEND;TZID=America/Phoenix:20260429T170000
DTSTAMP:20260421T023504
CREATED:20260227T182153Z
LAST-MODIFIED:20260323T183211Z
UID:10001028-1777478400-1777482000@www.jcsvv.org
SUMMARY:Jewish Meditation
DESCRIPTION:Wednesdays at 4:00 p.m. (MST)\non Zoom\n\nJoin Rabbi Magal and Rosalie Malter who lead a group in calming\, uplifting\, Jewish meditation practices. No previous experience with meditation needed.\n\nZoom only\nClick Here to Join
URL:https://www.jcsvv.org/event/jewish-meditation-3/2026-04-29/
END:VEVENT
BEGIN:VEVENT
DTSTART;TZID=America/Phoenix:20260429T083000
DTEND;TZID=America/Phoenix:20260429T083000
DTSTAMP:20260421T023504
CREATED:20260113T182101Z
LAST-MODIFIED:20260323T182954Z
UID:10000185-1777451400-1777451400@www.jcsvv.org
SUMMARY:Morning Minyan
DESCRIPTION:Led by Rabbi Alicia Magal\nWednesdays at 8:30 a.m. (MST)\non Zoom\nJoin members in welcoming the new day with this participatory Wednesday morning Shacharit minyan led by Rabbi Magal. Offer a blessing for healing or say Kaddish for a loved one. Currently on Zoom.\nClick Here to Join
URL:https://www.jcsvv.org/event/morning-minyan/2026-04-29/
END:VEVENT
BEGIN:VEVENT
DTSTART;TZID=America/Phoenix:20260426T100000
DTEND;TZID=America/Phoenix:20260426T130000
DTSTAMP:20260421T023504
CREATED:20260114T211804Z
LAST-MODIFIED:20260114T215903Z
UID:10000550-1777197600-1777208400@www.jcsvv.org
SUMMARY:Board of Directors Meeting
DESCRIPTION:Board of Directors Meeting\nMembers welcome to attend \nNote: April 26th meeting is ZOOM only \nJoin Zoom Meeting:\nhttps://us02web.zoom.us/j/89635157200?pwd=eHE3UXY3Qjk0RXVpVTV6VHdxVW1zUT09\nMeeting ID: 896 3515 7200
URL:https://www.jcsvv.org/event/board-of-directors-meeting-4/2026-04-26/
END:VEVENT
BEGIN:VEVENT
DTSTART;TZID=America/Phoenix:20260424T173000
DTEND;TZID=America/Phoenix:20260424T193000
DTSTAMP:20260421T023504
CREATED:20260412T180919Z
LAST-MODIFIED:20260412T183028Z
UID:10000029-1777051800-1777059000@www.jcsvv.org
SUMMARY:Erev Shabbat Service Led by Rabbi Alicia Magal - Israel Independence Day\, Shalom Singers\, Sponsored Oneg
DESCRIPTION:Erev Shabbat Service\n\nLed by Rabbi Alicia Magal\nFriday\, April 24\, 2026 at 5:30 pm (MST)\n\nJoin us as we celebrate Israel Independence Day.\n \n \n\n\n\n\nWelcome in Shabbat with this joyous service of song\, blessings\, Torah reading\, and Kaddish\, mourner’s prayer.\nThe Shalom Singers choir\, directed by Katherine LaTorraca\, will enhance the service with their beautiful melodies.\nPlease join us for an Oneg following the service sponsored by Steve and Debi Heims in honor of Israel Independence Day.\nEveryone is welcome!\nWe hope you will join us!\n\n\n\n\nClick Here to Join with Zoom
URL:https://www.jcsvv.org/event/erev-shabbat-service-led-by-rabbi-alicia-magal-8/
END:VEVENT
BEGIN:VEVENT
DTSTART;TZID=America/Phoenix:20260424T154500
DTEND;TZID=America/Phoenix:20260424T170000
DTSTAMP:20260421T023504
CREATED:20260412T184058Z
LAST-MODIFIED:20260412T184107Z
UID:10001548-1777045500-1777050000@www.jcsvv.org
SUMMARY:Shalom Singers Choir Rehearsal for Israel Independence Day
DESCRIPTION:Shalom Singers Choir Rehearsal \nFriday\, April 24\, 2026\n3:45 – 5:00 pm \nJCSVV Sanctuary \nDirected by Katherine LaTorraca
URL:https://www.jcsvv.org/event/shalom-singers-choir-rehearsal-for-israel-independence-day/
END:VEVENT
BEGIN:VEVENT
DTSTART;TZID=America/Phoenix:20260423T160000
DTEND;TZID=America/Phoenix:20260423T173000
DTSTAMP:20260421T023504
CREATED:20260109T210709Z
LAST-MODIFIED:20260331T224720Z
UID:10000130-1776960000-1776965400@www.jcsvv.org
SUMMARY:Torah Study
DESCRIPTION:Thursday afternoons\n4:00 – 5:30 p.m. \n \nLearn together with Rabbi Magal about the weekly Torah portion from many perspectives and commentaries. Currently on Zoom. \nClick Here to Join Zoom
URL:https://www.jcsvv.org/event/torah-study/2026-04-23/
END:VEVENT
BEGIN:VEVENT
DTSTART;TZID=America/Phoenix:20260423T130000
DTEND;TZID=America/Phoenix:20260423T150000
DTSTAMP:20260421T023504
CREATED:20260412T183431Z
LAST-MODIFIED:20260412T183431Z
UID:10001546-1776949200-1776956400@www.jcsvv.org
SUMMARY:Shalom Singers Choir Rehearsal for Yom Ha-Atzma'ut
DESCRIPTION:Shalom Singers Choir Rehearsal for Yom Ha-Atzma’ut – Israel Independence Day\nThursday\, April 23\, 2026\n1:00 – 3:00 pm \nJCSVV Sanctuary \nDirected by Katherine LaTorraca
URL:https://www.jcsvv.org/event/shalom-singers-choir-rehearsal-for-yom-ha-atzmaut/
END:VEVENT
BEGIN:VEVENT
DTSTART;TZID=America/Phoenix:20260422T160000
DTEND;TZID=America/Phoenix:20260422T170000
DTSTAMP:20260421T023504
CREATED:20260227T182153Z
LAST-MODIFIED:20260323T183211Z
UID:10001027-1776873600-1776877200@www.jcsvv.org
SUMMARY:Jewish Meditation
DESCRIPTION:Wednesdays at 4:00 p.m. (MST)\non Zoom\n\nJoin Rabbi Magal and Rosalie Malter who lead a group in calming\, uplifting\, Jewish meditation practices. No previous experience with meditation needed.\n\nZoom only\nClick Here to Join
URL:https://www.jcsvv.org/event/jewish-meditation-3/2026-04-22/
END:VEVENT
BEGIN:VEVENT
DTSTART;TZID=America/Phoenix:20260422T083000
DTEND;TZID=America/Phoenix:20260422T083000
DTSTAMP:20260421T023504
CREATED:20260113T182101Z
LAST-MODIFIED:20260323T182954Z
UID:10000184-1776846600-1776846600@www.jcsvv.org
SUMMARY:Morning Minyan
DESCRIPTION:Led by Rabbi Alicia Magal\nWednesdays at 8:30 a.m. (MST)\non Zoom\nJoin members in welcoming the new day with this participatory Wednesday morning Shacharit minyan led by Rabbi Magal. Offer a blessing for healing or say Kaddish for a loved one. Currently on Zoom.\nClick Here to Join
URL:https://www.jcsvv.org/event/morning-minyan/2026-04-22/
END:VEVENT
BEGIN:VEVENT
DTSTART;TZID=America/Phoenix:20260419T150000
DTEND;TZID=America/Phoenix:20260419T163000
DTSTAMP:20260421T023504
CREATED:20260212T015703Z
LAST-MODIFIED:20260406T203942Z
UID:10000751-1776610800-1776616200@www.jcsvv.org
SUMMARY:Red Rocks Music Festival - Reminiscences
DESCRIPTION:REMINISCENCES\nSave the Date for an Unforgettable Afternoon!\nOn Sunday\, April 19th\, at 3:00 PM\, the Red Rocks Music Festival will host a special concert in commemoration of Yom Hashoah\, Holocaust Day. This event will take place at the  Jewish Community of Sedona and the Verde Valley Synagogue. \nFeatured performers include Christopher Creviston (saxophone)\, Hannah Creviston (piano)\, and soprano Amanda DeMaris. Violinist Moshe Bukshpan will also perform. \nThe concert will feature selections composed during and inspired by the Holocaust\, including works by Leo Smith\, Erwin Schulhoff\, Ellwood Der\, Stacy Garrop\, and John Williams. \nClick Here for Tickets and additional information
URL:https://www.jcsvv.org/event/https-www-jcsvv-org-red-rocks-music-festival-concert/
END:VEVENT
BEGIN:VEVENT
DTSTART;TZID=America/Phoenix:20260417T173000
DTEND;TZID=America/Phoenix:20260417T193000
DTSTAMP:20260421T023504
CREATED:20260411T172849Z
LAST-MODIFIED:20260412T172404Z
UID:10000028-1776447000-1776454200@www.jcsvv.org
SUMMARY:Erev Shabbat Service Led by Rabbi Alicia Magal - Holocaust Remembrance Day\, Shalom Singers\, Sponsored Oneg
DESCRIPTION:Erev Shabbat Service\n\nLed by Rabbi Alicia Magal\nFriday\, April 17\, 2026\n5:30 pm (MST)\n\n \n\n\n\n\nWelcome in Shabbat with this joyous service of song\, blessings\, Torah reading\, and Kaddish\, mourner’s prayer.\n \nFeaturing the Shalom Singers choir adding songs related to Holocaust Remembrance Day which was observed during the week. \nSix candles will be lit at the beginning of the service in memory of the Six Million Jews killed during the Holocaust. \nPlease join us for an Oneg following the service sponsored by Rabbi Magal and Sheila Jackman in honor of Itzhak Magal’s and Sheila’s birthdays.\nEveryone is welcome!\n\n\n\n\nClick Here to Join with Zoom
URL:https://www.jcsvv.org/event/erev-shabbat-service-led-by-rabbi-alicia-magal-7/
END:VEVENT
END:VCALENDAR